BEGIN:VCALENDAR
VERSION:2.0
PRODID:-//Drupal iCal API//EN
X-WR-CALNAME:McCallum Events
X-WR-TIMEZONE:America/Chicago
BEGIN:VTIMEZONE
TZID:America/Chicago
X-LIC-LOCATION:America/Chicago
BEGIN:DAYLIGHT
TZNAME:CDT
TZOFFSETFROM:-0600
TZOFFSETTO:-0500
DTSTART:20260308T080000
END:DAYLIGHT
BEGIN:STANDARD
TZNAME:CST
TZOFFSETFROM:-0500
TZOFFSETTO:-0600
DTSTART:20251102T070000
END:STANDARD
END:VTIMEZONE
BEGIN:VEVENT
UID:beecf78e-8528-4ebd-b412-4e4ec96d1401
DTSTART;TZID=America/Chicago:20260426T140000
SEQUENCE:0
TRANSP:TRANSPARENT
DTEND;TZID=America/Chicago:20260426T160000
SUMMARY:Austin Chamber Music Center Spring Performance
CLASS:PUBLIC
DESCRIPTION:Body \n\nLocation: Fine Arts Building Theatre\n\nSunday\, April
  26\, 2026⋅2:00 – 4:00pm
DTSTAMP:20260424T191458Z
END:VEVENT
END:VCALENDAR