BEGIN:VCALENDAR
VERSION:2.0
PRODID:-//Drupal iCal API//EN
X-WR-CALNAME:McCallum Events
X-WR-TIMEZONE:America/Chicago
BEGIN:VTIMEZONE
TZID:America/Chicago
X-LIC-LOCATION:America/Chicago
BEGIN:DAYLIGHT
TZNAME:CDT
TZOFFSETFROM:-0600
TZOFFSETTO:-0500
DTSTART:20260308T080000
END:DAYLIGHT
BEGIN:STANDARD
TZNAME:CST
TZOFFSETFROM:-0500
TZOFFSETTO:-0600
DTSTART:20251102T070000
END:STANDARD
END:VTIMEZONE
BEGIN:VEVENT
UID:005352e2-7ccd-4697-896b-810a7bcf7fea
DTSTART;TZID=America/Chicago:20260424T163000
SEQUENCE:0
TRANSP:TRANSPARENT
DTEND;TZID=America/Chicago:20260424T210000
SUMMARY:McCallum Percussion Spring Performance
CLASS:PUBLIC
DESCRIPTION:Body \n\n(MAC) Percussion Spring Performance\n\nFriday\, April 
 24\, 2026⋅4:30 – 9:00pm
DTSTAMP:20260419T171303Z
END:VEVENT
END:VCALENDAR