BEGIN:VCALENDAR
VERSION:2.0
PRODID:-//Drupal iCal API//EN
X-WR-CALNAME:McCallum Events
X-WR-TIMEZONE:America/Chicago
BEGIN:VTIMEZONE
TZID:America/Chicago
X-LIC-LOCATION:America/Chicago
BEGIN:DAYLIGHT
TZNAME:CDT
TZOFFSETFROM:-0600
TZOFFSETTO:-0500
DTSTART:20260308T080000
END:DAYLIGHT
BEGIN:STANDARD
TZNAME:CST
TZOFFSETFROM:-0500
TZOFFSETTO:-0600
DTSTART:20251102T070000
END:STANDARD
END:VTIMEZONE
BEGIN:VEVENT
UID:aa3ec53f-8a45-45c5-aa5c-ef14eddda882
DTSTART;TZID=America/Chicago:20260425T200000
SEQUENCE:0
TRANSP:TRANSPARENT
DTEND;TZID=America/Chicago:20260425T230000
SUMMARY:Senior Prom
CLASS:PUBLIC
DESCRIPTION:Body \n\nPROM                                 
   SAT. APRIL\n25 - 8 -11 PM\n\nLOCATION: ETTER-HARBIN UT ALUMNI CENTER\
 n
DTSTAMP:20260423T180339Z
END:VEVENT
END:VCALENDAR